BEGIN:VCALENDAR
VERSION:2.0
PRODID:-//AHEPA Epiphany City Tarpon Springs Chapter 16 - ECPv6.15.12.2//NONSGML v1.0//EN
CALSCALE:GREGORIAN
METHOD:PUBLISH
X-WR-CALNAME:AHEPA Epiphany City Tarpon Springs Chapter 16
X-ORIGINAL-URL:https://ahepa16.org
X-WR-CALDESC:Events for AHEPA Epiphany City Tarpon Springs Chapter 16
REFRESH-INTERVAL;VALUE=DURATION:PT1H
X-Robots-Tag:noindex
X-PUBLISHED-TTL:PT1H
BEGIN:VTIMEZONE
TZID:UTC
BEGIN:STANDARD
TZOFFSETFROM:+0000
TZOFFSETTO:+0000
TZNAME:UTC
DTSTART:20230101T000000
END:STANDARD
END:VTIMEZONE
BEGIN:VEVENT
DTSTART;TZID=UTC:20250718T170000
DTEND;TZID=UTC:20250718T200000
DTSTAMP:20260422T010113
CREATED:20250701T151834Z
LAST-MODIFIED:20250701T151834Z
UID:25657-1752858000-1752868800@ahepa16.org
SUMMARY:Ahepa Friday Night Dinner
DESCRIPTION:Our address is 20 West Tarpon Avenue in Tarpon Springs\, Florida.\nOur Phone Number is 727-934-8842.\nOrders are accepted from 4:00 pm until 7:30 pm on Friday.\nDinner is served beginning at 4:30 pm.\nYou may pay by Credit Card\, Cash\, or Check.\nYou may “Dine In” or “Take Out.”\nWheelchair Accessible. Please call ahead for arrangements.
URL:https://ahepa16.org/event/ahepa-friday-night-dinner-10/
CATEGORIES:Friday Dinner
END:VEVENT
BEGIN:VEVENT
DTSTART;TZID=UTC:20250711T170000
DTEND;TZID=UTC:20250711T200000
DTSTAMP:20260422T010113
CREATED:20250701T151703Z
LAST-MODIFIED:20250701T151703Z
UID:25655-1752253200-1752264000@ahepa16.org
SUMMARY:Ahepa Friday Night Dinner
DESCRIPTION:Our address is 20 West Tarpon Avenue in Tarpon Springs\, Florida.\nOur Phone Number is 727-934-8842.\nOrders are accepted from 4:00 pm until 7:30 pm on Friday.\nDinner is served beginning at 4:30 pm.\nYou may pay by Credit Card\, Cash\, or Check.\nYou may “Dine In” or “Take Out.”\nWheelchair Accessible. Please call ahead for arrangements.
URL:https://ahepa16.org/event/ahepa-friday-night-dinner-9/
CATEGORIES:Friday Dinner
END:VEVENT
BEGIN:VEVENT
DTSTART;TZID=UTC:20250704T170000
DTEND;TZID=UTC:20250704T200000
DTSTAMP:20260422T010113
CREATED:20250701T161621Z
LAST-MODIFIED:20250701T161643Z
UID:25693-1751648400-1751659200@ahepa16.org
SUMMARY:July 4th Dinner & Social
DESCRIPTION:Hot dogs\, chili dogs\, hamburgers\, coleslaw\, baked beans\, chips\, coffeeOnly $10.00Children under 12 eat free
URL:https://ahepa16.org/event/july-4th-dinner-social/
CATEGORIES:Friday Dinner,Holiday
END:VEVENT
BEGIN:VEVENT
DTSTART;VALUE=DATE:20250606
DTEND;VALUE=DATE:20250609
DTSTAMP:20260422T010113
CREATED:20250411T124556Z
LAST-MODIFIED:20250513T193348Z
UID:25623-1749168000-1749427199@ahepa16.org
SUMMARY:2025 AHEPA Family District 2 Convention
DESCRIPTION:2025 AHEPA Family District 2 ConventionHosted by Chapter #18 – West Palm BeachJune 6–8\, 2025
URL:https://ahepa16.org/event/2025-ahepa-family-district-2-convention/
END:VEVENT
BEGIN:VEVENT
DTSTART;TZID=UTC:20250209T110000
DTEND;TZID=UTC:20250209T200000
DTSTAMP:20260422T010113
CREATED:20250128T145357Z
LAST-MODIFIED:20250128T145643Z
UID:25609-1739098800-1739131200@ahepa16.org
SUMMARY:AHEPA Chapter 16: 21st Annual Super Bowl Golf Tournament
DESCRIPTION:AHEPA Chapter 16 21st Annual Super Bowl Golf Tournament. Sunday\, February 9th\, 2025 – 12 Noon Shotgun Start. \nTarpon Springs Golf Club \n\n4 Player Scramble Format\n1st & 2nd Place Team Awards\nRegistration & Putting Contest at 11AM\n5:00PM – Dinner\, Awards and Prizes\n\nAT: AHEPA House – 20 W. Tarpon Ave. Golf and Dinner $ 85.00 Per Person Dinner only $ 20.00 Contact: Michael Pantel 727-461-6220 or mmpjd1@gmail.com
URL:https://ahepa16.org/event/annual-super-bowl-golf-tournament/
END:VEVENT
BEGIN:VEVENT
DTSTART;TZID=UTC:20241122T160000
DTEND;TZID=UTC:20241122T193000
DTSTAMP:20260422T010113
CREATED:20240927T185302Z
LAST-MODIFIED:20240927T185302Z
UID:25582-1732291200-1732303800@ahepa16.org
SUMMARY:Ahepa Friday Night Dinner
DESCRIPTION:Our address is 20 West Tarpon Avenue in Tarpon Springs\, Florida.\nOur Phone Number is 727-934-8842.\nOrders are accepted from 4:00 pm until 7:30 pm on Friday.\nDinner is served beginning at 4:30 pm.\nYou may pay by Credit Card\, Cash\, or Check.\nYou may “Dine In” or “Take Out.”\nWheelchair Accessible. Please call ahead for arrangements.
URL:https://ahepa16.org/event/ahepa-friday-night-dinner-8/
END:VEVENT
BEGIN:VEVENT
DTSTART;TZID=UTC:20241115T160000
DTEND;TZID=UTC:20241115T193000
DTSTAMP:20260422T010113
CREATED:20240927T185224Z
LAST-MODIFIED:20240927T185224Z
UID:25580-1731686400-1731699000@ahepa16.org
SUMMARY:Ahepa Friday Night Dinner
DESCRIPTION:Our address is 20 West Tarpon Avenue in Tarpon Springs\, Florida.\nOur Phone Number is 727-934-8842.\nOrders are accepted from 4:00 pm until 7:30 pm on Friday.\nDinner is served beginning at 4:30 pm.\nYou may pay by Credit Card\, Cash\, or Check.\nYou may “Dine In” or “Take Out.”\nWheelchair Accessible. Please call ahead for arrangements.
URL:https://ahepa16.org/event/ahepa-friday-night-dinner-7/
END:VEVENT
BEGIN:VEVENT
DTSTART;TZID=UTC:20241108T160000
DTEND;TZID=UTC:20241108T193000
DTSTAMP:20260422T010113
CREATED:20240927T185157Z
LAST-MODIFIED:20240927T185157Z
UID:25578-1731081600-1731094200@ahepa16.org
SUMMARY:Ahepa Friday Night Dinner
DESCRIPTION:Our address is 20 West Tarpon Avenue in Tarpon Springs\, Florida.\nOur Phone Number is 727-934-8842.\nOrders are accepted from 4:00 pm until 7:30 pm on Friday.\nDinner is served beginning at 4:30 pm.\nYou may pay by Credit Card\, Cash\, or Check.\nYou may “Dine In” or “Take Out.”\nWheelchair Accessible. Please call ahead for arrangements.
URL:https://ahepa16.org/event/ahepa-friday-night-dinner-6/
END:VEVENT
BEGIN:VEVENT
DTSTART;VALUE=DATE:20241105
DTEND;VALUE=DATE:20241106
DTSTAMP:20260422T010113
CREATED:20241007T233808Z
LAST-MODIFIED:20241007T233808Z
UID:25590-1730764800-1730851199@ahepa16.org
SUMMARY:Chapter Meeting
DESCRIPTION:At the Tarpon House
URL:https://ahepa16.org/event/chapter-meeting/
END:VEVENT
BEGIN:VEVENT
DTSTART;TZID=UTC:20241101T160000
DTEND;TZID=UTC:20241101T193000
DTSTAMP:20260422T010113
CREATED:20240927T185131Z
LAST-MODIFIED:20240927T185131Z
UID:25576-1730476800-1730489400@ahepa16.org
SUMMARY:Ahepa Friday Night Dinner
DESCRIPTION:Our address is 20 West Tarpon Avenue in Tarpon Springs\, Florida.\nOur Phone Number is 727-934-8842.\nOrders are accepted from 4:00 pm until 7:30 pm on Friday.\nDinner is served beginning at 4:30 pm.\nYou may pay by Credit Card\, Cash\, or Check.\nYou may “Dine In” or “Take Out.”\nWheelchair Accessible. Please call ahead for arrangements.
URL:https://ahepa16.org/event/ahepa-friday-night-dinner-5/
END:VEVENT
BEGIN:VEVENT
DTSTART;TZID=UTC:20241028T180000
DTEND;TZID=UTC:20241028T230000
DTSTAMP:20260422T010113
CREATED:20240916T014431Z
LAST-MODIFIED:20240916T014438Z
UID:25559-1730138400-1730156400@ahepa16.org
SUMMARY:MONDAY NIGHT FOOTBALL! TARPON HOUSE
DESCRIPTION:Of course the food\, cooked by the One and Only Panagiotis\, will include Wings\, Hot Dogs\, Hamburgers\, Cheeseburgers\, Chicken Tenders and French Fries cooked Greek Style. Doors open at 6pm Kick Off at 7pm. For details call: 727-934-8842
URL:https://ahepa16.org/event/monday-night-football-tarpon-house-7/
END:VEVENT
BEGIN:VEVENT
DTSTART;TZID=UTC:20241025T160000
DTEND;TZID=UTC:20241025T193000
DTSTAMP:20260422T010113
CREATED:20240927T185101Z
LAST-MODIFIED:20240927T185101Z
UID:25574-1729872000-1729884600@ahepa16.org
SUMMARY:Ahepa Friday Night Dinner
DESCRIPTION:Our address is 20 West Tarpon Avenue in Tarpon Springs\, Florida.\nOur Phone Number is 727-934-8842.\nOrders are accepted from 4:00 pm until 7:30 pm on Friday.\nDinner is served beginning at 4:30 pm.\nYou may pay by Credit Card\, Cash\, or Check.\nYou may “Dine In” or “Take Out.”\nWheelchair Accessible. Please call ahead for arrangements.
URL:https://ahepa16.org/event/ahepa-friday-night-dinner-4/
END:VEVENT
BEGIN:VEVENT
DTSTART;TZID=UTC:20241021T180000
DTEND;TZID=UTC:20241021T230000
DTSTAMP:20260422T010113
CREATED:20240916T014401Z
LAST-MODIFIED:20240916T014401Z
UID:25557-1729533600-1729551600@ahepa16.org
SUMMARY:MONDAY NIGHT FOOTBALL! TARPON HOUSE
DESCRIPTION:Of course the food\, cooked by the One and Only Panagiotis\, will include Wings\, Hot Dogs\, Hamburgers\, Cheeseburgers\, Chicken Tenders and French Fries cooked Greek Style. Doors open at 6pm Kick Off at 7pm. For details call: 727-934-8842
URL:https://ahepa16.org/event/monday-night-football-tarpon-house-6/
END:VEVENT
BEGIN:VEVENT
DTSTART;TZID=UTC:20241018T160000
DTEND;TZID=UTC:20241018T193000
DTSTAMP:20260422T010113
CREATED:20240927T185034Z
LAST-MODIFIED:20240927T185034Z
UID:25572-1729267200-1729279800@ahepa16.org
SUMMARY:Ahepa Friday Night Dinner
DESCRIPTION:Our address is 20 West Tarpon Avenue in Tarpon Springs\, Florida.\nOur Phone Number is 727-934-8842.\nOrders are accepted from 4:00 pm until 7:30 pm on Friday.\nDinner is served beginning at 4:30 pm.\nYou may pay by Credit Card\, Cash\, or Check.\nYou may “Dine In” or “Take Out.”\nWheelchair Accessible. Please call ahead for arrangements.
URL:https://ahepa16.org/event/ahepa-friday-night-dinner-3/
END:VEVENT
BEGIN:VEVENT
DTSTART;TZID=UTC:20241014T180000
DTEND;TZID=UTC:20241014T230000
DTSTAMP:20260422T010113
CREATED:20240916T014325Z
LAST-MODIFIED:20240916T014325Z
UID:25554-1728928800-1728946800@ahepa16.org
SUMMARY:MONDAY NIGHT FOOTBALL! TARPON HOUSE
DESCRIPTION:Of course the food\, cooked by the One and Only Panagiotis\, will include Wings\, Hot Dogs\, Hamburgers\, Cheeseburgers\, Chicken Tenders and French Fries cooked Greek Style. Doors open at 6pm Kick Off at 7pm. For details call: 727-934-8842
URL:https://ahepa16.org/event/monday-night-football-tarpon-house-5/
END:VEVENT
BEGIN:VEVENT
DTSTART;TZID=UTC:20241011T160000
DTEND;TZID=UTC:20241011T193000
DTSTAMP:20260422T010113
CREATED:20240927T185007Z
LAST-MODIFIED:20241007T233608Z
UID:25570-1728662400-1728675000@ahepa16.org
SUMMARY:CANCELLED Ahepa Friday Night Dinner
DESCRIPTION:CANCELLED  \n\nOur address is 20 West Tarpon Avenue in Tarpon Springs\, Florida.\nOur Phone Number is 727-934-8842.\nOrders are accepted from 4:00 pm until 7:30 pm on Friday.\nDinner is served beginning at 4:30 pm.\nYou may pay by Credit Card\, Cash\, or Check.\nYou may “Dine In” or “Take Out.”\nWheelchair Accessible. Please call ahead for arrangements.
URL:https://ahepa16.org/event/ahepa-friday-night-dinner-2/
END:VEVENT
BEGIN:VEVENT
DTSTART;TZID=UTC:20241007T180000
DTEND;TZID=UTC:20241007T230000
DTSTAMP:20260422T010113
CREATED:20240916T014255Z
LAST-MODIFIED:20240916T014255Z
UID:25552-1728324000-1728342000@ahepa16.org
SUMMARY:MONDAY NIGHT FOOTBALL! TARPON HOUSE
DESCRIPTION:Of course the food\, cooked by the One and Only Panagiotis\, will include Wings\, Hot Dogs\, Hamburgers\, Cheeseburgers\, Chicken Tenders and French Fries cooked Greek Style. Doors open at 6pm Kick Off at 7pm. For details call: 727-934-8842
URL:https://ahepa16.org/event/monday-night-football-tarpon-house-4/
END:VEVENT
BEGIN:VEVENT
DTSTART;TZID=UTC:20241004T160000
DTEND;TZID=UTC:20241004T193000
DTSTAMP:20260422T010113
CREATED:20240927T184929Z
LAST-MODIFIED:20240927T184929Z
UID:25568-1728057600-1728070200@ahepa16.org
SUMMARY:Ahepa Friday Night Dinner
DESCRIPTION:Our address is 20 West Tarpon Avenue in Tarpon Springs\, Florida.\nOur Phone Number is 727-934-8842.\nOrders are accepted from 4:00 pm until 7:30 pm on Friday.\nDinner is served beginning at 4:30 pm.\nYou may pay by Credit Card\, Cash\, or Check.\nYou may “Dine In” or “Take Out.”\nWheelchair Accessible. Please call ahead for arrangements.
URL:https://ahepa16.org/event/ahepa-friday-night-dinner/
END:VEVENT
BEGIN:VEVENT
DTSTART;TZID=UTC:20240930T180000
DTEND;TZID=UTC:20240930T230000
DTSTAMP:20260422T010113
CREATED:20240916T014224Z
LAST-MODIFIED:20240916T014224Z
UID:25550-1727719200-1727737200@ahepa16.org
SUMMARY:MONDAY NIGHT FOOTBALL! TARPON HOUSE
DESCRIPTION:Of course the food\, cooked by the One and Only Panagiotis\, will include Wings\, Hot Dogs\, Hamburgers\, Cheeseburgers\, Chicken Tenders and French Fries cooked Greek Style. Doors open at 6pm Kick Off at 7pm. For details call: 727-934-8842
URL:https://ahepa16.org/event/monday-night-football-tarpon-house-3/
END:VEVENT
BEGIN:VEVENT
DTSTART;TZID=UTC:20240927T080000
DTEND;TZID=UTC:20240927T170000
DTSTAMP:20260422T010113
CREATED:20240927T184718Z
LAST-MODIFIED:20240927T184718Z
UID:25566-1727424000-1727456400@ahepa16.org
SUMMARY:AHEPA FRIDAY DINNER CANCELED TONIGHT
DESCRIPTION:We have to cancel tonight’s Friday Night Dinner because the power got knocked out at the Tarpon House.
URL:https://ahepa16.org/event/ahepa-friday-dinner-canceled-tonight/
END:VEVENT
BEGIN:VEVENT
DTSTART;TZID=UTC:20240923T180000
DTEND;TZID=UTC:20240923T230000
DTSTAMP:20260422T010113
CREATED:20240916T014140Z
LAST-MODIFIED:20240916T014151Z
UID:25547-1727114400-1727132400@ahepa16.org
SUMMARY:MONDAY NIGHT FOOTBALL! TARPON HOUSE
DESCRIPTION:Of course the food\, cooked by the One and Only Panagiotis\, will include Wings\, Hot Dogs\, Hamburgers\, Cheeseburgers\, Chicken Tenders and French Fries cooked Greek Style. Doors open at 6pm Kick Off at 7pm. For details call: 727-934-8842
URL:https://ahepa16.org/event/monday-night-football-tarpon-house-2/
END:VEVENT
BEGIN:VEVENT
DTSTART;TZID=UTC:20240916T180000
DTEND;TZID=UTC:20240916T230000
DTSTAMP:20260422T010113
CREATED:20240916T013339Z
LAST-MODIFIED:20240916T014106Z
UID:25535-1726509600-1726527600@ahepa16.org
SUMMARY:MONDAY NIGHT FOOTBALL! TARPON HOUSE
DESCRIPTION:ATLANTA FALCONS VS. PHILADELPHIA EAGLES. Of course the food\, cooked by the One and Only Panagiotis\, will include Wings\, Hot Dogs\, Hamburgers\, Cheeseburgers\, Chicken Tenders and French Fries cooked Greek Style. Doors open at 6pm Kick Off at 7pm. For details call: 727-934-8842
URL:https://ahepa16.org/event/monday-night-football-tarpon-house/
END:VEVENT
BEGIN:VEVENT
DTSTART;TZID=UTC:20240907T183000
DTEND;TZID=UTC:20240907T230000
DTSTAMP:20260422T010113
CREATED:20240618T150421Z
LAST-MODIFIED:20240823T205708Z
UID:25487-1725733800-1725750000@ahepa16.org
SUMMARY:POSTPONED AHEPA Family of Clearwater Casino Night
DESCRIPTION:POSTPONED UNTIL FURTHER NOTICE. STAY TUNED FOR UP AND COMING DETAILS.
URL:https://ahepa16.org/event/ahepa-family-of-clearwater-casino-night/
END:VEVENT
END:VCALENDAR