BEGIN:VCALENDAR
VERSION:2.0
PRODID:-//AHEPA Epiphany City Tarpon Springs Chapter 16 - ECPv6.15.12.2//NONSGML v1.0//EN
CALSCALE:GREGORIAN
METHOD:PUBLISH
X-WR-CALNAME:AHEPA Epiphany City Tarpon Springs Chapter 16
X-ORIGINAL-URL:https://ahepa16.org
X-WR-CALDESC:Events for AHEPA Epiphany City Tarpon Springs Chapter 16
REFRESH-INTERVAL;VALUE=DURATION:PT1H
X-Robots-Tag:noindex
X-PUBLISHED-TTL:PT1H
BEGIN:VTIMEZONE
TZID:UTC
BEGIN:STANDARD
TZOFFSETFROM:+0000
TZOFFSETTO:+0000
TZNAME:UTC
DTSTART:20230101T000000
END:STANDARD
END:VTIMEZONE
BEGIN:VEVENT
DTSTART;TZID=UTC:20260220T170000
DTEND;TZID=UTC:20260220T200000
DTSTAMP:20260421T162937
CREATED:20260129T210329Z
LAST-MODIFIED:20260129T210329Z
UID:25741-1771606800-1771617600@ahepa16.org
SUMMARY:Fish Fry and Social
DESCRIPTION:Our address is 20 West Tarpon Avenue in Tarpon Springs\, Florida.\nOur Phone Number is 727-934-8842.\nOrders are accepted from 4:00 pm until 7:30 pm on Friday.\nDinner is served beginning at 4:30 pm.\nYou may pay by Credit Card\, Cash\, or Check.\nYou may “Dine In” or “Take Out.”\nWheelchair Accessible. Please call ahead for arrangements.
URL:https://ahepa16.org/event/fish-fry-and-social-3/
CATEGORIES:Friday Dinner
END:VEVENT
BEGIN:VEVENT
DTSTART;TZID=UTC:20260213T170000
DTEND;TZID=UTC:20260213T200000
DTSTAMP:20260421T162937
CREATED:20260129T210304Z
LAST-MODIFIED:20260129T210304Z
UID:25739-1771002000-1771012800@ahepa16.org
SUMMARY:Fish Fry and Social
DESCRIPTION:Our address is 20 West Tarpon Avenue in Tarpon Springs\, Florida.\nOur Phone Number is 727-934-8842.\nOrders are accepted from 4:00 pm until 7:30 pm on Friday.\nDinner is served beginning at 4:30 pm.\nYou may pay by Credit Card\, Cash\, or Check.\nYou may “Dine In” or “Take Out.”\nWheelchair Accessible. Please call ahead for arrangements.
URL:https://ahepa16.org/event/fish-fry-and-social-2/
CATEGORIES:Friday Dinner
END:VEVENT
BEGIN:VEVENT
DTSTART;TZID=UTC:20260211T183000
DTEND;TZID=UTC:20260211T200000
DTSTAMP:20260421T162937
CREATED:20260129T210805Z
LAST-MODIFIED:20260129T210805Z
UID:25748-1770834600-1770840000@ahepa16.org
SUMMARY:Advent CPR Training
DESCRIPTION:
URL:https://ahepa16.org/event/advent-cpr-training/
CATEGORIES:Training
END:VEVENT
BEGIN:VEVENT
DTSTART;TZID=UTC:20260206T170000
DTEND;TZID=UTC:20260206T200000
DTSTAMP:20260421T162937
CREATED:20260129T210223Z
LAST-MODIFIED:20260129T210223Z
UID:25737-1770397200-1770408000@ahepa16.org
SUMMARY:Fish Fry and Social
DESCRIPTION:Our address is 20 West Tarpon Avenue in Tarpon Springs\, Florida.\nOur Phone Number is 727-934-8842.\nOrders are accepted from 4:00 pm until 7:30 pm on Friday.\nDinner is served beginning at 4:30 pm.\nYou may pay by Credit Card\, Cash\, or Check.\nYou may “Dine In” or “Take Out.”\nWheelchair Accessible. Please call ahead for arrangements.
URL:https://ahepa16.org/event/fish-fry-and-social/
CATEGORIES:Friday Dinner
END:VEVENT
BEGIN:VEVENT
DTSTART;TZID=UTC:20260203T173000
DTEND;TZID=UTC:20260203T200000
DTSTAMP:20260421T162937
CREATED:20260129T210602Z
LAST-MODIFIED:20260129T210602Z
UID:25745-1770139800-1770148800@ahepa16.org
SUMMARY:General Meeting
DESCRIPTION:Dinner at 5:30 Meeting 6:30 PM
URL:https://ahepa16.org/event/general-meeting/
CATEGORIES:Chapter Meeting
END:VEVENT
BEGIN:VEVENT
DTSTART;TZID=UTC:20251107T170000
DTEND;TZID=UTC:20251107T200000
DTSTAMP:20260421T162937
CREATED:20250701T161344Z
LAST-MODIFIED:20250701T161344Z
UID:25689-1762534800-1762545600@ahepa16.org
SUMMARY:Ahepa Friday Night Dinner
DESCRIPTION:Our address is 20 West Tarpon Avenue in Tarpon Springs\, Florida.\nOur Phone Number is 727-934-8842.\nOrders are accepted from 4:00 pm until 7:30 pm on Friday.\nDinner is served beginning at 4:30 pm.\nYou may pay by Credit Card\, Cash\, or Check.\nYou may “Dine In” or “Take Out.”\nWheelchair Accessible. Please call ahead for arrangements.
URL:https://ahepa16.org/event/ahepa-friday-night-dinner-26/
CATEGORIES:Friday Dinner
END:VEVENT
BEGIN:VEVENT
DTSTART;TZID=UTC:20251031T170000
DTEND;TZID=UTC:20251031T200000
DTSTAMP:20260421T162937
CREATED:20250701T161242Z
LAST-MODIFIED:20250701T161242Z
UID:25687-1761930000-1761940800@ahepa16.org
SUMMARY:Ahepa Friday Night Dinner
DESCRIPTION:Our address is 20 West Tarpon Avenue in Tarpon Springs\, Florida.\nOur Phone Number is 727-934-8842.\nOrders are accepted from 4:00 pm until 7:30 pm on Friday.\nDinner is served beginning at 4:30 pm.\nYou may pay by Credit Card\, Cash\, or Check.\nYou may “Dine In” or “Take Out.”\nWheelchair Accessible. Please call ahead for arrangements.
URL:https://ahepa16.org/event/ahepa-friday-night-dinner-25/
CATEGORIES:Friday Dinner
END:VEVENT
BEGIN:VEVENT
DTSTART;TZID=UTC:20251024T170000
DTEND;TZID=UTC:20251024T200000
DTSTAMP:20260421T162937
CREATED:20250701T161150Z
LAST-MODIFIED:20250701T161150Z
UID:25685-1761325200-1761336000@ahepa16.org
SUMMARY:Ahepa Friday Night Dinner
DESCRIPTION:Our address is 20 West Tarpon Avenue in Tarpon Springs\, Florida.\nOur Phone Number is 727-934-8842.\nOrders are accepted from 4:00 pm until 7:30 pm on Friday.\nDinner is served beginning at 4:30 pm.\nYou may pay by Credit Card\, Cash\, or Check.\nYou may “Dine In” or “Take Out.”\nWheelchair Accessible. Please call ahead for arrangements.
URL:https://ahepa16.org/event/ahepa-friday-night-dinner-24/
CATEGORIES:Friday Dinner
END:VEVENT
BEGIN:VEVENT
DTSTART;TZID=UTC:20251017T170000
DTEND;TZID=UTC:20251017T200000
DTSTAMP:20260421T162937
CREATED:20250701T161129Z
LAST-MODIFIED:20250701T161129Z
UID:25682-1760720400-1760731200@ahepa16.org
SUMMARY:Ahepa Friday Night Dinner
DESCRIPTION:Our address is 20 West Tarpon Avenue in Tarpon Springs\, Florida.\nOur Phone Number is 727-934-8842.\nOrders are accepted from 4:00 pm until 7:30 pm on Friday.\nDinner is served beginning at 4:30 pm.\nYou may pay by Credit Card\, Cash\, or Check.\nYou may “Dine In” or “Take Out.”\nWheelchair Accessible. Please call ahead for arrangements.
URL:https://ahepa16.org/event/ahepa-friday-night-dinner-23/
CATEGORIES:Friday Dinner
END:VEVENT
BEGIN:VEVENT
DTSTART;TZID=UTC:20251010T170000
DTEND;TZID=UTC:20251010T200000
DTSTAMP:20260421T162937
CREATED:20250701T161106Z
LAST-MODIFIED:20250701T161106Z
UID:25681-1760115600-1760126400@ahepa16.org
SUMMARY:Ahepa Friday Night Dinner
DESCRIPTION:Our address is 20 West Tarpon Avenue in Tarpon Springs\, Florida.\nOur Phone Number is 727-934-8842.\nOrders are accepted from 4:00 pm until 7:30 pm on Friday.\nDinner is served beginning at 4:30 pm.\nYou may pay by Credit Card\, Cash\, or Check.\nYou may “Dine In” or “Take Out.”\nWheelchair Accessible. Please call ahead for arrangements.
URL:https://ahepa16.org/event/ahepa-friday-night-dinner-22/
CATEGORIES:Friday Dinner
END:VEVENT
BEGIN:VEVENT
DTSTART;TZID=UTC:20251003T170000
DTEND;TZID=UTC:20251003T200000
DTSTAMP:20260421T162937
CREATED:20250701T160932Z
LAST-MODIFIED:20250701T161034Z
UID:25679-1759510800-1759521600@ahepa16.org
SUMMARY:Ahepa Friday Night Dinner
DESCRIPTION:Our address is 20 West Tarpon Avenue in Tarpon Springs\, Florida.\nOur Phone Number is 727-934-8842.\nOrders are accepted from 4:00 pm until 7:30 pm on Friday.\nDinner is served beginning at 4:30 pm.\nYou may pay by Credit Card\, Cash\, or Check.\nYou may “Dine In” or “Take Out.”\nWheelchair Accessible. Please call ahead for arrangements.
URL:https://ahepa16.org/event/ahepa-friday-night-dinner-21/
CATEGORIES:Friday Dinner
END:VEVENT
BEGIN:VEVENT
DTSTART;TZID=UTC:20250926T170000
DTEND;TZID=UTC:20250926T200000
DTSTAMP:20260421T162937
CREATED:20250701T160635Z
LAST-MODIFIED:20250701T160635Z
UID:25677-1758906000-1758916800@ahepa16.org
SUMMARY:Ahepa Friday Night Dinner
DESCRIPTION:Our address is 20 West Tarpon Avenue in Tarpon Springs\, Florida.\nOur Phone Number is 727-934-8842.\nOrders are accepted from 4:00 pm until 7:30 pm on Friday.\nDinner is served beginning at 4:30 pm.\nYou may pay by Credit Card\, Cash\, or Check.\nYou may “Dine In” or “Take Out.”\nWheelchair Accessible. Please call ahead for arrangements.
URL:https://ahepa16.org/event/ahepa-friday-night-dinner-20/
CATEGORIES:Friday Dinner
END:VEVENT
BEGIN:VEVENT
DTSTART;TZID=UTC:20250919T170000
DTEND;TZID=UTC:20250919T200000
DTSTAMP:20260421T162937
CREATED:20250701T160430Z
LAST-MODIFIED:20250701T160430Z
UID:25675-1758301200-1758312000@ahepa16.org
SUMMARY:Ahepa Friday Night Dinner
DESCRIPTION:Our address is 20 West Tarpon Avenue in Tarpon Springs\, Florida.\nOur Phone Number is 727-934-8842.\nOrders are accepted from 4:00 pm until 7:30 pm on Friday.\nDinner is served beginning at 4:30 pm.\nYou may pay by Credit Card\, Cash\, or Check.\nYou may “Dine In” or “Take Out.”\nWheelchair Accessible. Please call ahead for arrangements.
URL:https://ahepa16.org/event/ahepa-friday-night-dinner-19/
CATEGORIES:Friday Dinner
END:VEVENT
BEGIN:VEVENT
DTSTART;TZID=UTC:20250912T170000
DTEND;TZID=UTC:20250912T200000
DTSTAMP:20260421T162937
CREATED:20250701T160405Z
LAST-MODIFIED:20250701T160405Z
UID:25673-1757696400-1757707200@ahepa16.org
SUMMARY:Ahepa Friday Night Dinner
DESCRIPTION:Our address is 20 West Tarpon Avenue in Tarpon Springs\, Florida.\nOur Phone Number is 727-934-8842.\nOrders are accepted from 4:00 pm until 7:30 pm on Friday.\nDinner is served beginning at 4:30 pm.\nYou may pay by Credit Card\, Cash\, or Check.\nYou may “Dine In” or “Take Out.”\nWheelchair Accessible. Please call ahead for arrangements.
URL:https://ahepa16.org/event/ahepa-friday-night-dinner-18/
CATEGORIES:Friday Dinner
END:VEVENT
BEGIN:VEVENT
DTSTART;TZID=UTC:20250905T170000
DTEND;TZID=UTC:20250905T200000
DTSTAMP:20260421T162937
CREATED:20250701T155438Z
LAST-MODIFIED:20250701T155438Z
UID:25671-1757091600-1757102400@ahepa16.org
SUMMARY:Ahepa Friday Night Dinner
DESCRIPTION:Our address is 20 West Tarpon Avenue in Tarpon Springs\, Florida.\nOur Phone Number is 727-934-8842.\nOrders are accepted from 4:00 pm until 7:30 pm on Friday.\nDinner is served beginning at 4:30 pm.\nYou may pay by Credit Card\, Cash\, or Check.\nYou may “Dine In” or “Take Out.”\nWheelchair Accessible. Please call ahead for arrangements.
URL:https://ahepa16.org/event/ahepa-friday-night-dinner-17/
CATEGORIES:Friday Dinner
END:VEVENT
BEGIN:VEVENT
DTSTART;TZID=UTC:20250829T170000
DTEND;TZID=UTC:20250829T200000
DTSTAMP:20260421T162937
CREATED:20250701T152408Z
LAST-MODIFIED:20250701T152408Z
UID:25669-1756486800-1756497600@ahepa16.org
SUMMARY:Ahepa Friday Night Dinner
DESCRIPTION:Our address is 20 West Tarpon Avenue in Tarpon Springs\, Florida.\nOur Phone Number is 727-934-8842.\nOrders are accepted from 4:00 pm until 7:30 pm on Friday.\nDinner is served beginning at 4:30 pm.\nYou may pay by Credit Card\, Cash\, or Check.\nYou may “Dine In” or “Take Out.”\nWheelchair Accessible. Please call ahead for arrangements.
URL:https://ahepa16.org/event/ahepa-friday-night-dinner-16/
CATEGORIES:Friday Dinner
END:VEVENT
BEGIN:VEVENT
DTSTART;TZID=UTC:20250822T170000
DTEND;TZID=UTC:20250822T200000
DTSTAMP:20260421T162937
CREATED:20250701T152155Z
LAST-MODIFIED:20250701T152155Z
UID:25667-1755882000-1755892800@ahepa16.org
SUMMARY:Ahepa Friday Night Dinner
DESCRIPTION:Our address is 20 West Tarpon Avenue in Tarpon Springs\, Florida.\nOur Phone Number is 727-934-8842.\nOrders are accepted from 4:00 pm until 7:30 pm on Friday.\nDinner is served beginning at 4:30 pm.\nYou may pay by Credit Card\, Cash\, or Check.\nYou may “Dine In” or “Take Out.”\nWheelchair Accessible. Please call ahead for arrangements.
URL:https://ahepa16.org/event/ahepa-friday-night-dinner-15/
CATEGORIES:Friday Dinner
END:VEVENT
BEGIN:VEVENT
DTSTART;TZID=UTC:20250815T170000
DTEND;TZID=UTC:20250815T200000
DTSTAMP:20260421T162937
CREATED:20250701T152043Z
LAST-MODIFIED:20250701T152043Z
UID:25665-1755277200-1755288000@ahepa16.org
SUMMARY:Ahepa Friday Night Dinner
DESCRIPTION:Our address is 20 West Tarpon Avenue in Tarpon Springs\, Florida.\nOur Phone Number is 727-934-8842.\nOrders are accepted from 4:00 pm until 7:30 pm on Friday.\nDinner is served beginning at 4:30 pm.\nYou may pay by Credit Card\, Cash\, or Check.\nYou may “Dine In” or “Take Out.”\nWheelchair Accessible. Please call ahead for arrangements.
URL:https://ahepa16.org/event/ahepa-friday-night-dinner-14/
CATEGORIES:Friday Dinner
END:VEVENT
BEGIN:VEVENT
DTSTART;TZID=UTC:20250808T170000
DTEND;TZID=UTC:20250808T200000
DTSTAMP:20260421T162937
CREATED:20250701T152011Z
LAST-MODIFIED:20250701T152011Z
UID:25663-1754672400-1754683200@ahepa16.org
SUMMARY:Ahepa Friday Night Dinner
DESCRIPTION:Our address is 20 West Tarpon Avenue in Tarpon Springs\, Florida.\nOur Phone Number is 727-934-8842.\nOrders are accepted from 4:00 pm until 7:30 pm on Friday.\nDinner is served beginning at 4:30 pm.\nYou may pay by Credit Card\, Cash\, or Check.\nYou may “Dine In” or “Take Out.”\nWheelchair Accessible. Please call ahead for arrangements.
URL:https://ahepa16.org/event/ahepa-friday-night-dinner-13/
CATEGORIES:Friday Dinner
END:VEVENT
BEGIN:VEVENT
DTSTART;TZID=UTC:20250801T170000
DTEND;TZID=UTC:20250801T200000
DTSTAMP:20260421T162937
CREATED:20250701T151946Z
LAST-MODIFIED:20250701T151946Z
UID:25661-1754067600-1754078400@ahepa16.org
SUMMARY:Ahepa Friday Night Dinner
DESCRIPTION:Our address is 20 West Tarpon Avenue in Tarpon Springs\, Florida.\nOur Phone Number is 727-934-8842.\nOrders are accepted from 4:00 pm until 7:30 pm on Friday.\nDinner is served beginning at 4:30 pm.\nYou may pay by Credit Card\, Cash\, or Check.\nYou may “Dine In” or “Take Out.”\nWheelchair Accessible. Please call ahead for arrangements.
URL:https://ahepa16.org/event/ahepa-friday-night-dinner-12/
CATEGORIES:Friday Dinner
END:VEVENT
BEGIN:VEVENT
DTSTART;TZID=UTC:20250725T170000
DTEND;TZID=UTC:20250725T200000
DTSTAMP:20260421T162937
CREATED:20250701T151923Z
LAST-MODIFIED:20250701T151923Z
UID:25659-1753462800-1753473600@ahepa16.org
SUMMARY:Ahepa Friday Night Dinner
DESCRIPTION:Our address is 20 West Tarpon Avenue in Tarpon Springs\, Florida.\nOur Phone Number is 727-934-8842.\nOrders are accepted from 4:00 pm until 7:30 pm on Friday.\nDinner is served beginning at 4:30 pm.\nYou may pay by Credit Card\, Cash\, or Check.\nYou may “Dine In” or “Take Out.”\nWheelchair Accessible. Please call ahead for arrangements.
URL:https://ahepa16.org/event/ahepa-friday-night-dinner-11/
CATEGORIES:Friday Dinner
END:VEVENT
BEGIN:VEVENT
DTSTART;TZID=UTC:20250718T170000
DTEND;TZID=UTC:20250718T200000
DTSTAMP:20260421T162937
CREATED:20250701T151834Z
LAST-MODIFIED:20250701T151834Z
UID:25657-1752858000-1752868800@ahepa16.org
SUMMARY:Ahepa Friday Night Dinner
DESCRIPTION:Our address is 20 West Tarpon Avenue in Tarpon Springs\, Florida.\nOur Phone Number is 727-934-8842.\nOrders are accepted from 4:00 pm until 7:30 pm on Friday.\nDinner is served beginning at 4:30 pm.\nYou may pay by Credit Card\, Cash\, or Check.\nYou may “Dine In” or “Take Out.”\nWheelchair Accessible. Please call ahead for arrangements.
URL:https://ahepa16.org/event/ahepa-friday-night-dinner-10/
CATEGORIES:Friday Dinner
END:VEVENT
BEGIN:VEVENT
DTSTART;TZID=UTC:20250711T170000
DTEND;TZID=UTC:20250711T200000
DTSTAMP:20260421T162937
CREATED:20250701T151703Z
LAST-MODIFIED:20250701T151703Z
UID:25655-1752253200-1752264000@ahepa16.org
SUMMARY:Ahepa Friday Night Dinner
DESCRIPTION:Our address is 20 West Tarpon Avenue in Tarpon Springs\, Florida.\nOur Phone Number is 727-934-8842.\nOrders are accepted from 4:00 pm until 7:30 pm on Friday.\nDinner is served beginning at 4:30 pm.\nYou may pay by Credit Card\, Cash\, or Check.\nYou may “Dine In” or “Take Out.”\nWheelchair Accessible. Please call ahead for arrangements.
URL:https://ahepa16.org/event/ahepa-friday-night-dinner-9/
CATEGORIES:Friday Dinner
END:VEVENT
BEGIN:VEVENT
DTSTART;TZID=UTC:20250704T170000
DTEND;TZID=UTC:20250704T200000
DTSTAMP:20260421T162937
CREATED:20250701T161621Z
LAST-MODIFIED:20250701T161643Z
UID:25693-1751648400-1751659200@ahepa16.org
SUMMARY:July 4th Dinner & Social
DESCRIPTION:Hot dogs\, chili dogs\, hamburgers\, coleslaw\, baked beans\, chips\, coffeeOnly $10.00Children under 12 eat free
URL:https://ahepa16.org/event/july-4th-dinner-social/
CATEGORIES:Friday Dinner,Holiday
END:VEVENT
BEGIN:VEVENT
DTSTART;VALUE=DATE:20250606
DTEND;VALUE=DATE:20250609
DTSTAMP:20260421T162937
CREATED:20250411T124556Z
LAST-MODIFIED:20250513T193348Z
UID:25623-1749168000-1749427199@ahepa16.org
SUMMARY:2025 AHEPA Family District 2 Convention
DESCRIPTION:2025 AHEPA Family District 2 ConventionHosted by Chapter #18 – West Palm BeachJune 6–8\, 2025
URL:https://ahepa16.org/event/2025-ahepa-family-district-2-convention/
END:VEVENT
BEGIN:VEVENT
DTSTART;TZID=UTC:20250209T110000
DTEND;TZID=UTC:20250209T200000
DTSTAMP:20260421T162937
CREATED:20250128T145357Z
LAST-MODIFIED:20250128T145643Z
UID:25609-1739098800-1739131200@ahepa16.org
SUMMARY:AHEPA Chapter 16: 21st Annual Super Bowl Golf Tournament
DESCRIPTION:AHEPA Chapter 16 21st Annual Super Bowl Golf Tournament. Sunday\, February 9th\, 2025 – 12 Noon Shotgun Start. \nTarpon Springs Golf Club \n\n4 Player Scramble Format\n1st & 2nd Place Team Awards\nRegistration & Putting Contest at 11AM\n5:00PM – Dinner\, Awards and Prizes\n\nAT: AHEPA House – 20 W. Tarpon Ave. Golf and Dinner $ 85.00 Per Person Dinner only $ 20.00 Contact: Michael Pantel 727-461-6220 or mmpjd1@gmail.com
URL:https://ahepa16.org/event/annual-super-bowl-golf-tournament/
END:VEVENT
BEGIN:VEVENT
DTSTART;TZID=UTC:20241122T160000
DTEND;TZID=UTC:20241122T193000
DTSTAMP:20260421T162937
CREATED:20240927T185302Z
LAST-MODIFIED:20240927T185302Z
UID:25582-1732291200-1732303800@ahepa16.org
SUMMARY:Ahepa Friday Night Dinner
DESCRIPTION:Our address is 20 West Tarpon Avenue in Tarpon Springs\, Florida.\nOur Phone Number is 727-934-8842.\nOrders are accepted from 4:00 pm until 7:30 pm on Friday.\nDinner is served beginning at 4:30 pm.\nYou may pay by Credit Card\, Cash\, or Check.\nYou may “Dine In” or “Take Out.”\nWheelchair Accessible. Please call ahead for arrangements.
URL:https://ahepa16.org/event/ahepa-friday-night-dinner-8/
END:VEVENT
BEGIN:VEVENT
DTSTART;TZID=UTC:20241115T160000
DTEND;TZID=UTC:20241115T193000
DTSTAMP:20260421T162937
CREATED:20240927T185224Z
LAST-MODIFIED:20240927T185224Z
UID:25580-1731686400-1731699000@ahepa16.org
SUMMARY:Ahepa Friday Night Dinner
DESCRIPTION:Our address is 20 West Tarpon Avenue in Tarpon Springs\, Florida.\nOur Phone Number is 727-934-8842.\nOrders are accepted from 4:00 pm until 7:30 pm on Friday.\nDinner is served beginning at 4:30 pm.\nYou may pay by Credit Card\, Cash\, or Check.\nYou may “Dine In” or “Take Out.”\nWheelchair Accessible. Please call ahead for arrangements.
URL:https://ahepa16.org/event/ahepa-friday-night-dinner-7/
END:VEVENT
BEGIN:VEVENT
DTSTART;TZID=UTC:20241108T160000
DTEND;TZID=UTC:20241108T193000
DTSTAMP:20260421T162937
CREATED:20240927T185157Z
LAST-MODIFIED:20240927T185157Z
UID:25578-1731081600-1731094200@ahepa16.org
SUMMARY:Ahepa Friday Night Dinner
DESCRIPTION:Our address is 20 West Tarpon Avenue in Tarpon Springs\, Florida.\nOur Phone Number is 727-934-8842.\nOrders are accepted from 4:00 pm until 7:30 pm on Friday.\nDinner is served beginning at 4:30 pm.\nYou may pay by Credit Card\, Cash\, or Check.\nYou may “Dine In” or “Take Out.”\nWheelchair Accessible. Please call ahead for arrangements.
URL:https://ahepa16.org/event/ahepa-friday-night-dinner-6/
END:VEVENT
BEGIN:VEVENT
DTSTART;VALUE=DATE:20241105
DTEND;VALUE=DATE:20241106
DTSTAMP:20260421T162937
CREATED:20241007T233808Z
LAST-MODIFIED:20241007T233808Z
UID:25590-1730764800-1730851199@ahepa16.org
SUMMARY:Chapter Meeting
DESCRIPTION:At the Tarpon House
URL:https://ahepa16.org/event/chapter-meeting/
END:VEVENT
END:VCALENDAR